BEGIN:VCALENDAR
VERSION:2.0
PRODID:-//eventon.com NONSGML v1.0//EN
CALSCALE:GREGORIAN
METHOD:PUBLISH
BEGIN:VEVENT
UID:69ebd5a44d40d
DTSTAMP:20260424T204212Z
DTSTART:20201104T190000Z
DTEND:20201104T200000Z
LOCATION:
SUMMARY:Bibelwoche: Gottes Boten in der Welt...
DESCRIPTION:&#8230;leben überzeugend! Unser Referent Hartmut Steeb war 33 
 Jahre Generalsekretär der Deutschen Evangelischen Allianz. Er ist seit 201
 9 im sehr aktiven Ruhestand. Er ist stellvertretender Vorsitzneder des Bund
 esverband Lebensrecht. Er war u. a. Generalsekretär und Vorstandsmitglied 
 von ProChrist\,  im Vorstand der Lausanner Bewegung\,  Gründungsvorstandsm
 itglied von &#8222;Willow Creek Deutschland!\,  Vorstandsmitglied beim[..]\
 nhttps://www.paul-os.de/events/bibelwoche-gottes-boten-in-der-welt/
URL:https://www.paul-os.de/events/bibelwoche-gottes-boten-in-der-welt/
END:VEVENT
END:VCALENDAR