BEGIN:VCALENDAR
VERSION:2.0
PRODID:-//eventon.com NONSGML v1.0//EN
CALSCALE:GREGORIAN
METHOD:PUBLISH
BEGIN:VEVENT
UID:69e6363841b0f
DTSTAMP:20260420T142040Z
DTSTART:20210318T050000Z
DTEND:20210318T060000Z
LOCATION:
SUMMARY:Biblisches Gebet zur Fasten- und Passionszeit in der Pauluskirche
DESCRIPTION:Biblisches Gebet zur Fasten- und Passionszeit in der Pauluskirc
 he\nhttps://www.paul-os.de/events/biblisches-gebet-zur-fasten-und-passionsz
 eit-in-der-pauluskirche-3/
URL:https://www.paul-os.de/events/biblisches-gebet-zur-fasten-und-passionszeit-in-der-pauluskirche-3/
END:VEVENT
END:VCALENDAR