BEGIN:VCALENDAR
VERSION:2.0
PRODID:-//eventon.com NONSGML v1.0//EN
CALSCALE:GREGORIAN
METHOD:PUBLISH
BEGIN:VEVENT
UID:69eb2123a9de2
DTSTAMP:20260424T075203Z
DTSTART:20210801T210000Z
DTEND:20210801T220000Z
LOCATION:
SUMMARY:Gottesdienst am Sonntag mit Abendmahl
DESCRIPTION:Gottesdienst am Sonntag mit Abendmahl\nhttps://www.paul-os.de/e
 vents/gottesdienst-am-sonntag-mit-abendmahl-9/
URL:https://www.paul-os.de/events/gottesdienst-am-sonntag-mit-abendmahl-9/
END:VEVENT
END:VCALENDAR