BEGIN:VCALENDAR
VERSION:2.0
PRODID:-//eventon.com NONSGML v1.0//EN
CALSCALE:GREGORIAN
METHOD:PUBLISH
BEGIN:VEVENT
UID:69e9730219575
DTSTAMP:20260423T011650Z
DTSTART:20211003T210000Z
DTEND:20211003T220000Z
LOCATION:
SUMMARY:Gottesdienst am Sonntag mit Abendmahl
DESCRIPTION:Gottesdienst am Sonntag mit Abendmahl\nhttps://www.paul-os.de/e
 vents/gottesdienst-am-sonntag-mit-abendmahl-10/
URL:https://www.paul-os.de/events/gottesdienst-am-sonntag-mit-abendmahl-10/
END:VEVENT
END:VCALENDAR