BEGIN:VCALENDAR
VERSION:2.0
PRODID:-//eventon.com NONSGML v1.0//EN
CALSCALE:GREGORIAN
METHOD:PUBLISH
BEGIN:VEVENT
UID:69eb34626037b
DTSTAMP:20260424T091410Z
DTSTART:20211113T063000Z
DTEND:20211113T090000Z
LOCATION:
SUMMARY:Hoffnungsfest in der Paulusgemeinde
DESCRIPTION:Hoffnungsfest in der Paulusgemeinde\nhttps://www.paul-os.de/eve
 nts/hoffnungsfest-in-der-paulusgemeinde-6/
URL:https://www.paul-os.de/events/hoffnungsfest-in-der-paulusgemeinde-6/
END:VEVENT
END:VCALENDAR