BEGIN:VCALENDAR
VERSION:2.0
PRODID:-//eventon.com NONSGML v1.0//EN
CALSCALE:GREGORIAN
METHOD:PUBLISH
BEGIN:VEVENT
UID:69ed75f52de06
DTSTAMP:20260426T021829Z
DTSTART:20211231T160000Z
DTEND:20211231T170000Z
LOCATION:
SUMMARY:Altjahresabend mit Abendmahl
DESCRIPTION:Altjahresabend mit Abendmahl\nhttps://www.paul-os.de/events/alt
 jahresabend-mit-abendmahl/
URL:https://www.paul-os.de/events/altjahresabend-mit-abendmahl/
END:VEVENT
END:VCALENDAR