BEGIN:VCALENDAR
VERSION:2.0
PRODID:-//eventon.com NONSGML v1.0//EN
CALSCALE:GREGORIAN
METHOD:PUBLISH
BEGIN:VEVENT
UID:69e8d742ec99a
DTSTAMP:20260422T141218Z
DTSTART:20220102T210000Z
DTEND:20220102T220000Z
LOCATION:
SUMMARY:Gottesdienst mit Abendmahl am Sonntag
DESCRIPTION:Gottesdienst mit Abendmahl am Sonntag\nhttps://www.paul-os.de/e
 vents/gottesdienst-mit-abendmahl-am-sonntag-2/
URL:https://www.paul-os.de/events/gottesdienst-mit-abendmahl-am-sonntag-2/
END:VEVENT
END:VCALENDAR