BEGIN:VCALENDAR
VERSION:2.0
PRODID:-//eventon.com NONSGML v1.0//EN
CALSCALE:GREGORIAN
METHOD:PUBLISH
BEGIN:VEVENT
UID:69e73661a1a2b
DTSTAMP:20260421T083337Z
DTSTART:20220424T210000Z
DTEND:20220424T220000Z
LOCATION:
SUMMARY:KEIN Gottesdienst wegen Bombenräumung
DESCRIPTION:KEIN Gottesdienst wegen Bombenräumung\nhttps://www.paul-os.de/
 events/paul-moderner-gottesdienst-5/
URL:https://www.paul-os.de/events/paul-moderner-gottesdienst-5/
END:VEVENT
END:VCALENDAR