BEGIN:VCALENDAR
VERSION:2.0
PRODID:-//eventon.com NONSGML v1.0//EN
CALSCALE:GREGORIAN
METHOD:PUBLISH
BEGIN:VEVENT
UID:69ea2f9faf349
DTSTAMP:20260423T144135Z
DTSTART:20220703T210000Z
DTEND:20220703T220000Z
LOCATION:
SUMMARY:Gottesdienst am Sonntag mit Abendmahl
DESCRIPTION:Gottesdienst am Sonntag mit Abendmahl\nhttps://www.paul-os.de/e
 vents/gottesdienst-am-sonntag-mit-abendmahl-14/
URL:https://www.paul-os.de/events/gottesdienst-am-sonntag-mit-abendmahl-14/
END:VEVENT
END:VCALENDAR