BEGIN:VCALENDAR
VERSION:2.0
PRODID:-//eventon.com NONSGML v1.0//EN
CALSCALE:GREGORIAN
METHOD:PUBLISH
BEGIN:VEVENT
UID:69e6229852b3c
DTSTAMP:20260420T125656Z
DTSTART:20221009T210000Z
DTEND:20221009T220000Z
LOCATION:
SUMMARY:Gottesdienst am Sonntag
DESCRIPTION:Gottesdienst am Sonntag\nhttps://www.paul-os.de/events/gottesdi
 enst-am-sonntag-79/
URL:https://www.paul-os.de/events/gottesdienst-am-sonntag-79/
END:VEVENT
END:VCALENDAR