BEGIN:VCALENDAR
VERSION:2.0
PRODID:-//eventon.com NONSGML v1.0//EN
CALSCALE:GREGORIAN
METHOD:PUBLISH
BEGIN:VEVENT
UID:69e7317bd4636
DTSTAMP:20260421T081243Z
DTSTART:20230205T210000Z
DTEND:20230205T220000Z
LOCATION:
SUMMARY:Gottesdienst mit Abendmahl
DESCRIPTION:Gottesdienst mit Abendmahl\nhttps://www.paul-os.de/events/gotte
 sdienst-mit-abendmahl-2/
URL:https://www.paul-os.de/events/gottesdienst-mit-abendmahl-2/
END:VEVENT
END:VCALENDAR