BEGIN:VCALENDAR
VERSION:2.0
PRODID:-//eventon.com NONSGML v1.0//EN
CALSCALE:GREGORIAN
METHOD:PUBLISH
BEGIN:VEVENT
UID:69ecc3c782eb3
DTSTAMP:20260425T133815Z
DTSTART:20230219T210000Z
DTEND:20230219T220000Z
LOCATION:
SUMMARY:Gottesdienst am Sonntag
DESCRIPTION:Gottesdienst am Sonntag\nhttps://www.paul-os.de/events/gottesdi
 enst-am-sonntag-87/
URL:https://www.paul-os.de/events/gottesdienst-am-sonntag-87/
END:VEVENT
END:VCALENDAR