BEGIN:VCALENDAR
VERSION:2.0
PRODID:-//eventon.com NONSGML v1.0//EN
CALSCALE:GREGORIAN
METHOD:PUBLISH
BEGIN:VEVENT
UID:69eb2946865a0
DTSTAMP:20260424T082646Z
DTSTART:20230407T060000Z
DTEND:20230407T070000Z
LOCATION:
SUMMARY:Gottesdienst am Gründonnerstag mit Abendmahl
DESCRIPTION:Gottesdienst am Gründonnerstag mit Abendmahl\nhttps://www.paul
 -os.de/events/gottesdienst-am-gruendonnerstag-mit-abendmahl-2/
URL:https://www.paul-os.de/events/gottesdienst-am-gruendonnerstag-mit-abendmahl-2/
END:VEVENT
END:VCALENDAR