BEGIN:VCALENDAR
VERSION:2.0
PRODID:-//eventon.com NONSGML v1.0//EN
CALSCALE:GREGORIAN
METHOD:PUBLISH
BEGIN:VEVENT
UID:69e797be2ed94
DTSTAMP:20260421T152902Z
DTSTART:20240310T210000Z
DTEND:20240310T220000Z
LOCATION:
SUMMARY:Gottesdienst mit Abendmahl \,  Tag der Kirchenvorstandswahl
DESCRIPTION:Gottesdienst mit Abendmahl \,  Tag der Kirchenvorstandswahl\nht
 tps://www.paul-os.de/events/gottesdienst-mit-abendmahl-tag-der-kirchenvorst
 andswahl/
URL:https://www.paul-os.de/events/gottesdienst-mit-abendmahl-tag-der-kirchenvorstandswahl/
END:VEVENT
END:VCALENDAR