BEGIN:VCALENDAR
VERSION:2.0
PRODID:-//eventon.com NONSGML v1.0//EN
CALSCALE:GREGORIAN
METHOD:PUBLISH
BEGIN:VEVENT
UID:69eb1fbe2523a
DTSTAMP:20260424T074606Z
DTSTART:20240512T210000Z
DTEND:20240512T220000Z
LOCATION:
SUMMARY:Gottesdienst
DESCRIPTION:Gottesdienst\nhttps://www.paul-os.de/events/gottesdienst/
URL:https://www.paul-os.de/events/gottesdienst/
END:VEVENT
END:VCALENDAR