BEGIN:VCALENDAR
VERSION:2.0
PRODID:-//eventon.com NONSGML v1.0//EN
CALSCALE:GREGORIAN
METHOD:PUBLISH
BEGIN:VEVENT
UID:69eaf2815ce5c
DTSTAMP:20260424T043305Z
DTSTART:20240623T210000Z
DTEND:20240623T220000Z
LOCATION:
SUMMARY:Kindergottesdienst in Paulus
DESCRIPTION:Kindergottesdienst in Paulus\nhttps://www.paul-os.de/events/kin
 dergottesdienst-in-paulus-2/
URL:https://www.paul-os.de/events/kindergottesdienst-in-paulus-2/
END:VEVENT
END:VCALENDAR