BEGIN:VCALENDAR
VERSION:2.0
PRODID:-//eventon.com NONSGML v1.0//EN
CALSCALE:GREGORIAN
METHOD:PUBLISH
BEGIN:VEVENT
UID:69e541bc53677
DTSTAMP:20260419T205732Z
DTSTART:20241117T090000Z
DTEND:20241117T100000Z
LOCATION:
SUMMARY:PAUL! der moderne Gottesdienst
DESCRIPTION:PAUL! der moderne Gottesdienst\nhttps://www.paul-os.de/events/p
 aul-der-moderne-gottesdienst-6/
URL:https://www.paul-os.de/events/paul-der-moderne-gottesdienst-6/
END:VEVENT
END:VCALENDAR