BEGIN:VCALENDAR
VERSION:2.0
PRODID:-//eventon.com NONSGML v1.0//EN
CALSCALE:GREGORIAN
METHOD:PUBLISH
BEGIN:VEVENT
UID:69e7381b23be4
DTSTAMP:20260421T084059Z
DTSTART:20241124T210000Z
DTEND:20241124T220000Z
LOCATION:
SUMMARY:Gottesdienst zum Ewigkeitssonntag
DESCRIPTION:Gottesdienst zum Ewigkeitssonntag\nhttps://www.paul-os.de/event
 s/gottesdienst-zum-ewigkeitssonntag-2/
URL:https://www.paul-os.de/events/gottesdienst-zum-ewigkeitssonntag-2/
END:VEVENT
END:VCALENDAR