BEGIN:VCALENDAR
VERSION:2.0
PRODID:-//eventon.com NONSGML v1.0//EN
CALSCALE:GREGORIAN
METHOD:PUBLISH
BEGIN:VEVENT
UID:69e7462d82b22
DTSTAMP:20260421T094101Z
DTSTART:20241225T033000Z
DTEND:20241225T043000Z
LOCATION:
SUMMARY:Christvesper mit dem Lighthousechor
DESCRIPTION:Christvesper mit dem Lighthousechor\nhttps://www.paul-os.de/eve
 nts/christvesper-mit-dem-lighthousechor-2/
URL:https://www.paul-os.de/events/christvesper-mit-dem-lighthousechor-2/
END:VEVENT
END:VCALENDAR