BEGIN:VCALENDAR
VERSION:2.0
PRODID:-//eventon.com NONSGML v1.0//EN
CALSCALE:GREGORIAN
METHOD:PUBLISH
BEGIN:VEVENT
UID:69eb81005f37c
DTSTAMP:20260424T144104Z
DTSTART:20241225T093000Z
DTEND:20241225T103000Z
LOCATION:
SUMMARY:Christmette zur Heiligen Nacht
DESCRIPTION:Christmette zur Heiligen Nacht\nhttps://www.paul-os.de/events/c
 hristmette/
URL:https://www.paul-os.de/events/christmette/
END:VEVENT
END:VCALENDAR