BEGIN:VCALENDAR
VERSION:2.0
PRODID:-//eventon.com NONSGML v1.0//EN
CALSCALE:GREGORIAN
METHOD:PUBLISH
BEGIN:VEVENT
UID:69e737e1a1167
DTSTAMP:20260421T084001Z
DTSTART:20250504T210000Z
DTEND:20250504T220000Z
LOCATION:
SUMMARY:Gottesdienst mit Abendmahl
DESCRIPTION:Gottesdienst mit Abendmahl\nhttps://www.paul-os.de/events/gotte
 sdienst-mit-abendmahl-pastor-k-kuemmel/
URL:https://www.paul-os.de/events/gottesdienst-mit-abendmahl-pastor-k-kuemmel/
END:VEVENT
END:VCALENDAR