BEGIN:VCALENDAR
VERSION:2.0
PRODID:-//eventon.com NONSGML v1.0//EN
CALSCALE:GREGORIAN
METHOD:PUBLISH
BEGIN:VEVENT
UID:69e6beb7b72ef
DTSTAMP:20260421T000303Z
DTSTART:20250518T210000Z
DTEND:20250518T220000Z
LOCATION:
SUMMARY:Gottesdienst
DESCRIPTION:Gottesdienst\nhttps://www.paul-os.de/events/gottesdienst-25/
URL:https://www.paul-os.de/events/gottesdienst-25/
END:VEVENT
END:VCALENDAR