BEGIN:VCALENDAR
VERSION:2.0
PRODID:-//eventon.com NONSGML v1.0//EN
CALSCALE:GREGORIAN
METHOD:PUBLISH
BEGIN:VEVENT
UID:69e7370e6d001
DTSTAMP:20260421T083630Z
DTSTART:20250921T210000Z
DTEND:20250921T220000Z
LOCATION:
SUMMARY:Gottesdienst\,  Vorstellung der Konfirmanden
DESCRIPTION:Gottesdienst\,  Vorstellung der Konfirmanden\nhttps://www.paul-
 os.de/events/gottesdienst-vorstellung-der-konfirmanden/
URL:https://www.paul-os.de/events/gottesdienst-vorstellung-der-konfirmanden/
END:VEVENT
END:VCALENDAR